BEGIN:VCALENDAR
VERSION:2.0
PRODID:-//hacksw/handcal//NONSGML v1.0//EN
BEGIN:VEVENT
SUMMARY:Entrainement commun du CD 72
UID:4433921f-a9bb-4ca2-a304-c0bffbabbc6b
DTSTART:20260312T190000Z
DTEND:20260312T204500Z
LOCATION:Localisation Rue des Prunus 72210 La Suze sur Sarthe
CATEGORIES:Entrainement
STATUS:
DESCRIPTION:<br><div><b>L'equipe du CD 72</b></div><div>organise
 le <span
 style="font-size:16px;color:rgb(49,49,49);font-family:'-apple-system',
 sans-serif;">prochain <b>entrainement commun</b> au club de La
 Suze. </span></div>
URL;VALUE=URI:https://boxefrancaisemontbizot.sportsregions.fr/evenements/2026/03/12/entrainement-commun-du-cd-72-2423805
END:VEVENT
END:VCALENDAR
